BEGIN:VCALENDAR
VERSION:2.0
PRODID:-//Γέφυρα στο Μέλλον - ECPv6.5.1.5//NONSGML v1.0//EN
CALSCALE:GREGORIAN
METHOD:PUBLISH
X-WR-CALNAME:Γέφυρα στο Μέλλον
X-ORIGINAL-URL:https://gefyrastomellon.gr
X-WR-CALDESC:Events for Γέφυρα στο Μέλλον
REFRESH-INTERVAL;VALUE=DURATION:PT1H
X-Robots-Tag:noindex
X-PUBLISHED-TTL:PT1H
BEGIN:VTIMEZONE
TZID:Europe/Athens
BEGIN:DAYLIGHT
TZOFFSETFROM:+0200
TZOFFSETTO:+0300
TZNAME:EEST
DTSTART:20190331T010000
END:DAYLIGHT
BEGIN:STANDARD
TZOFFSETFROM:+0300
TZOFFSETTO:+0200
TZNAME:EET
DTSTART:20191027T010000
END:STANDARD
END:VTIMEZONE
BEGIN:VEVENT
DTSTART;TZID=Europe/Athens:20190408T090000
DTEND;TZID=Europe/Athens:20190408T120000
DTSTAMP:20260419T154511
CREATED:20190408T065000Z
LAST-MODIFIED:20190408T065000Z
UID:2063-1554714000-1554724800@gefyrastomellon.gr
SUMMARY:Επίσκεψη στη λαχαναγορά Σερβίων
DESCRIPTION:Ο υποψ. Δήμαρχος Χρήστος Ελευθερίου με ομάδα υποψηφίων δημοτικών συμβούλων θα επισκεφθεί τη λαχαναγορά Σερβίων.
URL:https://gefyrastomellon.gr/ekdilosi/%ce%b5%cf%80%ce%af%cf%83%ce%ba%ce%b5%cf%88%ce%b7-%cf%83%cf%84%ce%b7-%ce%bb%ce%b1%cf%87%ce%b1%ce%bd%ce%b1%ce%b3%ce%bf%cf%81%ce%ac-%cf%83%ce%b5%cf%81%ce%b2%ce%af%cf%89%ce%bd/
END:VEVENT
END:VCALENDAR